BEGIN:VCALENDAR
VERSION:2.0
PRODID:-//Christian Science in the Greater Philadelphia Area - ECPv6.15.20//NONSGML v1.0//EN
CALSCALE:GREGORIAN
METHOD:PUBLISH
X-ORIGINAL-URL:https://www.csgreaterphiladelphia.org
X-WR-CALDESC:Events for Christian Science in the Greater Philadelphia Area
REFRESH-INTERVAL;VALUE=DURATION:PT1H
X-Robots-Tag:noindex
X-PUBLISHED-TTL:PT1H
BEGIN:VTIMEZONE
TZID:America/New_York
BEGIN:DAYLIGHT
TZOFFSETFROM:-0500
TZOFFSETTO:-0400
TZNAME:EDT
DTSTART:20240310T070000
END:DAYLIGHT
BEGIN:STANDARD
TZOFFSETFROM:-0400
TZOFFSETTO:-0500
TZNAME:EST
DTSTART:20241103T060000
END:STANDARD
BEGIN:DAYLIGHT
TZOFFSETFROM:-0500
TZOFFSETTO:-0400
TZNAME:EDT
DTSTART:20250309T070000
END:DAYLIGHT
BEGIN:STANDARD
TZOFFSETFROM:-0400
TZOFFSETTO:-0500
TZNAME:EST
DTSTART:20251102T060000
END:STANDARD
BEGIN:DAYLIGHT
TZOFFSETFROM:-0500
TZOFFSETTO:-0400
TZNAME:EDT
DTSTART:20260308T070000
END:DAYLIGHT
BEGIN:STANDARD
TZOFFSETFROM:-0400
TZOFFSETTO:-0500
TZNAME:EST
DTSTART:20261101T060000
END:STANDARD
END:VTIMEZONE
BEGIN:VEVENT
DTSTART;TZID=America/New_York:20250927T110000
DTEND;TZID=America/New_York:20250927T120000
DTSTAMP:20260425T181611
CREATED:20250701T194359Z
LAST-MODIFIED:20250907T232100Z
UID:10002557-1758970800-1758974400@www.csgreaterphiladelphia.org
SUMMARY:"The Science of God and its power to heal us" - Nikki O'Hagan\, C.S.
DESCRIPTION:About this talk:\nMisconceptions about ourselves and the world we live in are often corrected by advances in science which bring paradigm shifts to our ways of thinking and understanding existence — like discovering that the earth revolves around the sun\, rather than the other way around. \nThe current matter-based scientific model leaves many questions unanswered and has some thinkers and scientists questioning if it is still the right model. It is interesting to consider if the time has now come for another major paradigm shift in science – a shift that would include God as the center and circumference of all existence. This paradigm shift in thought begins with the questions – how does science relate to God and is there a science that explains God? \nNikki O’Hagan\, Christian Science lecturer and practitioner\, will address these questions in her talk and show how the Science of God explains Jesus’ healings\, and teachings\, makes God knowable and understandable\, and provides humanity with a safe and reliable means for caring for ourselves and each other. \nNikki will also share some of her own experiences of the transforming\, healing power of God gained through understanding this Science of God\, or Christian Science. She will explain how this healing happens\, and what role consciousness plays in the process. \nChildcare will be provided at the lecture. \nClick here to learn more about the branch church sponsoring important event. \n			\n			\n				\n				\n				\n				\n			\n				\n				\n			\n				\n				\n				\n				\n				\n				\n				\n				\n				\n				\n				\n				\n				\n				\n				\n				\n				\n				About our Speaker Nikki O’Hagan\, CS:Member of the Christian Science Board of Lectureship\nNikki grew up in South Africa where she gained a love for being outdoors and enjoying the beauty and promise of nature. From a young age she had a strong desire to not just experience life\, but to understand it. She used to exasperate her dad by following up every explanation he gave her by asking “but\, Why?” While Nikki did grow up attending Christian Science Sunday School\, as a teen she decided that this would not be the way for her to gain the understanding of life that she was seeking\, and she headed off in another direction. \nSeveral years followed in which she desperately tried to find happiness and to understand the Why of life. She looked everywhere and tried everything (even jumping out of an airplane!) but nothing brought answers\, happiness or lasting peace. Rather than finding an understanding of life\, it all seemed to just get darker and make less and less sense. \nAnd then a transformational healing brought her back to Christian Science\, where she found comfort\, peace\, mercy\, happiness\, harmony\, health\, and home in the arms of divine Love. Nikki then discovered that she loved the infallible logic of the Science of Christianity\, and found in it all the answers to her Whys. Life and God finally began to make sense and became full of joy\, light\, and love. Her gratitude for this pivotal healing\, and the salvation it brought her by setting her on the path of Christian Science\, was–and still is–unbounded. Since that time all she has wanted to do is love and serve God\, and love and serve others. \nThrough her study and practice of Christian Science\, Nikki has experienced and witnessed so many healings over the years. Her earnest desire is for all to know the transformational healing power of divine Love. Becoming a Christian Science practitioner was a natural step in fulfilling this desire. \nNikki looks forward to sharing with others\, through the lecturing work\, the subjects most precious and dear to her heart: God and Christian Science.
URL:https://www.csgreaterphiladelphia.org/event/the-science-of-god-newark/
LOCATION:First Church of Christ\, Scientist\, Newark\, DE\, 48 W Park Pl\, Newark\, DE\, 19711
CATEGORIES:Church Services,Featured,Free Public Talk
ATTACH;FMTTYPE=image/jpeg:https://www.csgreaterphiladelphia.org/wp-content/uploads/2025/07/Screenshot-2025-07-01-153637.jpg
ORGANIZER;CN="First Church of Christ%2C Scientist%2C Newark":MAILTO:csnewarkde@gmail.com
END:VEVENT
END:VCALENDAR