BEGIN:VCALENDAR
VERSION:2.0
PRODID:-//Christian Science in the Greater Philadelphia Area - ECPv6.15.20//NONSGML v1.0//EN
CALSCALE:GREGORIAN
METHOD:PUBLISH
X-ORIGINAL-URL:https://www.csgreaterphiladelphia.org
X-WR-CALDESC:Events for Christian Science in the Greater Philadelphia Area
REFRESH-INTERVAL;VALUE=DURATION:PT1H
X-Robots-Tag:noindex
X-PUBLISHED-TTL:PT1H
BEGIN:VTIMEZONE
TZID:America/New_York
BEGIN:DAYLIGHT
TZOFFSETFROM:-0500
TZOFFSETTO:-0400
TZNAME:EDT
DTSTART:20240310T070000
END:DAYLIGHT
BEGIN:STANDARD
TZOFFSETFROM:-0400
TZOFFSETTO:-0500
TZNAME:EST
DTSTART:20241103T060000
END:STANDARD
BEGIN:DAYLIGHT
TZOFFSETFROM:-0500
TZOFFSETTO:-0400
TZNAME:EDT
DTSTART:20250309T070000
END:DAYLIGHT
BEGIN:STANDARD
TZOFFSETFROM:-0400
TZOFFSETTO:-0500
TZNAME:EST
DTSTART:20251102T060000
END:STANDARD
BEGIN:DAYLIGHT
TZOFFSETFROM:-0500
TZOFFSETTO:-0400
TZNAME:EDT
DTSTART:20260308T070000
END:DAYLIGHT
BEGIN:STANDARD
TZOFFSETFROM:-0400
TZOFFSETTO:-0500
TZNAME:EST
DTSTART:20261101T060000
END:STANDARD
END:VTIMEZONE
BEGIN:VEVENT
DTSTART;TZID=America/New_York:20251102T143000
DTEND;TZID=America/New_York:20251102T153000
DTSTAMP:20260425T145924
CREATED:20250916T220021Z
LAST-MODIFIED:20250916T220353Z
UID:10002559-1762093800-1762097400@www.csgreaterphiladelphia.org
SUMMARY:"What Really Matters" - A Talk sponsored by First Church of Christ\, Scientist\, West Chester\, PA
DESCRIPTION:About this talk:\nWhen finding solutions seems difficult\, it’s often because we are having trouble knowing what matters. But the right kind of vision (hint: it’s spiritual) allows us to discern what is actually important. Christian Science reveals what is essential\, brings solutions\, and enables us to live God-impelled lives that bless our families and communities. \nClick here to learn more about the branch church sponsoring important event. \n			\n			\n				\n				\n				\n				\n			\n				\n				\n			\n				\n				\n				\n				\n				\n				\n				\n				\n				\n				\n				\n				\n				\n				\n				\n				\n				\n				About our Speaker Nicole Virgil\, CS:Member of the Christian Science Board of Lectureship\nNicole’s father was a free-lance church organist\, and her parents attended services at many different Christian churches in New England. Her mom had been on a years-long search to find out how to practice Christian healing just as Jesus did\, and when she started attending Christian Science church services\, she found what she was looking for. As a result\, Nicole was raised in Christian Science\, and developed a deep desire for an intimate relationship with God. \nNicole studied Christian Science with her mom and music with her dad\, and found that each discipline complemented the other. Christian Science healed performance anxiety\, while learning music honed the skills she needed for spiritual practice — skills such as intuition\, listening\, patience and diligence. Throughout her life\, Christian Science and music have always overlapped: after studying opera at music school\, she took her one-woman opera review program (That Can’t Be Opera!) on the road\, educating audiences about opera by singing Mozart\, Puccini\, and Menotti. Christian Science guided her through this entrepreneurial endeavor\, just as it led her to start soloing in churches as a teenager (which is something she still loves to do!) — Nicole eventually married\, started a family with her husband\, and entered the public practice of Christian Science. \nToday Nicole enjoys raising children\, gardening\, soloing in church\, and witnessing the healing effect of Christian Science.
URL:https://www.csgreaterphiladelphia.org/event/what-really-matters-a-talk-sponsored-by-first-church-of-christ-scientist-west-chester-pa/
LOCATION:First Church of Christ\, Scientist West Chester\, PA\, 227 N. High St\, West Chester\, 19380\, United States
CATEGORIES:Church Services,Featured,Free Public Talk
ATTACH;FMTTYPE=image/jpeg:https://www.csgreaterphiladelphia.org/wp-content/uploads/2025/09/west-chester-poster.jpg
END:VEVENT
BEGIN:VEVENT
DTSTART;TZID=America/New_York:20251116T140000
DTEND;TZID=America/New_York:20251116T150000
DTSTAMP:20260425T145924
CREATED:20250801T160643Z
LAST-MODIFIED:20251031T162355Z
UID:10002558-1763301600-1763305200@www.csgreaterphiladelphia.org
SUMMARY:"Effective prayer: Finding healing and wholeness in divine Love" - A Talk sponsored by First Church of Christ\, Scientist\, Berwyn\, PA
DESCRIPTION:About this talk:\nIn this lecture\, explore practical and transformative prayer\, as taught in Christian Science. Through compelling personal stories\, Christian Science practitioner and lecturer Bobby Lewis illustrates how the spiritual laws of divine Love operate– and how prayer brings us into alignment with these laws. Whether you’re feeling lost or struggling with illness\, effective prayer can restore clarity\, peace and wholeness in every area of life. \nClick here to learn more about the branch church sponsoring important event. \n			\n			\n				\n				\n				\n				\n			\n				\n				\n			\n				\n				\n				\n				\n				\n				\n				\n				\n				\n				\n				\n				\n				\n				\n				\n				\n				\n				About our Speaker Bobby Lewis\, CS:Member of the Christian Science Board of Lectureship\nBobby grew up in the mountains of Colorado in the US and has found inspiration in wild places all of his life. During some tough teen-age years\, his mother (a Christian Science Practitioner)\, helped him begin to see himself as spiritually whole and loved by God right in the midst of those challenges. It made all the difference and that dark time was left behind. \nThe care he received\, and those early lessons of the value of seeking spiritually and listening deeply to God\, set him on a trajectory of wanting to give back to others by supporting their growth. Over the years that took shape in work as a camp counselor\, experiential educator\, and chaplain for service organizations. \nAfter studying religion in college and graduate school with a focus on learning more about how to put the teachings of the Bible into day-to-day practice\, Bobby began work as a Christian Science practitioner\, reaching out to others with healing focused prayer. \nBeing “moved with compassion\,” as Christ Jesus modeled\, and connecting people with God’s healing love is at the heart of Bobby’s ministry and life. \nBobby still lives in Colorado with his family and animals on a little ranch along the river\, where he loves to write poetry\, walk\, listen\, and stand in awe of Spirit’s infinite creation.
URL:https://www.csgreaterphiladelphia.org/event/effective-prayer-finding-healing-and-wholeness-in-divine-love-a-talk-sponsored-by-first-church-of-christ-scientist-berwyn-pa/
LOCATION:First Church of Christ\, Scientist\, Berwyn\, PA\, 81 Cassatt Ave.\, Berwyn\, Berwyn\, PA\, United States
CATEGORIES:Church Services,Featured,Free Public Talk
ATTACH;FMTTYPE=image/jpeg:https://www.csgreaterphiladelphia.org/wp-content/uploads/2025/08/berwyn-poster.jpg
ORGANIZER;CN="First Church of Christ%2C Scientist%2C Newark":MAILTO:csnewarkde@gmail.com
END:VEVENT
END:VCALENDAR